BEGIN:VCALENDAR
VERSION:2.0
PRODID:-//hacksw/handcal//NONSGML v1.0//EN
BEGIN:VEVENT
SUMMARY:Module Para - formation continue
UID:1154f32d-9bd1-4d61-89d0-7ba415e6b779
DTSTART:20260417T220000Z
DTEND:20260419T220000Z
LOCATION:Localisation   
CATEGORIES:Formation
STATUS:
URL;VALUE=URI:https://www.tiralarc-centrevaldeloire.fr/evenements/2026/04/18/module-para-formation-continue-2441960
END:VEVENT
END:VCALENDAR
