BEGIN:VCALENDAR
VERSION:2.0
PRODID:-//hacksw/handcal//NONSGML v1.0//EN
BEGIN:VEVENT
SUMMARY:Challenge Chevrier EPERNON 2me manche
UID:2012c075-ad1b-4354-a953-672037cfc07a
DTSTART:20260529T220000Z
DTEND:20260530T220000Z
LOCATION:Localisation   
CATEGORIES:Sportif
STATUS:
URL;VALUE=URI:https://www.tiralarc-centrevaldeloire.fr/evenements/2026/05/30/challenge-chevrier-epernon-2me-manche-2423742
END:VEVENT
END:VCALENDAR
