BEGIN:VCALENDAR
VERSION:2.0
PRODID:-//hacksw/handcal//NONSGML v1.0//EN
BEGIN:VEVENT
SUMMARY:TAEi DR1-2 VOVES FINALES
UID:ca3c5fce-012a-45c9-bce8-7b6bf5312a54
DTSTART:20260619T220000Z
DTEND:20260621T220000Z
LOCATION:Localisation   
CATEGORIES:Sportif
STATUS:
URL;VALUE=URI:https://www.tiralarc-centrevaldeloire.fr/evenements/2026/06/20/taei-dr1-2-voves-finales-2423733
END:VEVENT
END:VCALENDAR
